Workbook

Sheet РАсчеты
C6: ПП № | D6: Наименование | E6: Единица измерения | F6: Количество, шт. | G6: Дата постановки на баланс / Дата приобретения | H6: Первоначальная стоимость, руб. | I6: Техническое состояние | J6: Цена предложения, руб. с НДС | K6: Цена предложения, руб. без НДС | L6: Источник информации | M6: Год | N6: Индекс изменения цены | O6: Стоимость замещения, руб. с НДС (без учета износа) | P6: Стоимость замещения, руб. с НДС (без учета износа), с учетом количества | Q6: Физический износ, % | R6: Переход на вторичный рынок | S6: Рыночная стоимость с учетом износа, руб. с НДС и перехода на вторичный рынок | T6: Рыночная стоимость с учетом износа, руб. без НДС и перехода на вторичный рынок
C7: 1 | D7: busconnector 6ES7 972-0BA12-0XA0 | E7: м | F7: 2 | H7: 1824.06 | I7: Хорошее | J7: =K7*1.2 -> 6697.848 | K7: 5581.54 | L7: https://www.leyrus.ru/catalog/drugie-moduli-siemens/soedinitel_siemens_6es7972_0ba12_0xa0_6es79720ba120xa0_simatic_dp_dlya_podklyucheniya_k_profi/?yclid=5728925685812297727 | O7: =J7 -> 6697.848 | P7: =O7*F7 -> 13395.696 | Q7: 0.2 | R7: 0.147 | S7: =ROUND(P7*(1-Q7)*(1-R7),0) -> 9141 | T7: =S7/1.2 -> 7617.5
C8: 2 | D8: Control panel LCP 102 130B1107 | E8: м | F8: 1 | G8: 02.02.2022 | H8: 1251.04 | I8: Хорошее | J8: 14543 | L8: https://www.holod-tk.ru/katalog/kontrolerry/optsii_i_komplektuyushchie_k_kontrolleram/130b1107_vlt_panell_lcp_102/#desc | O8: =J8 -> 14543 | P8: =O8*F8 -> 14543 | Q8: 0.2 | R8: 0.147 | S8: =ROUND(P8*(1-Q8)*(1-R8),0) -> 9924 | T8: =S8/1.2 -> 8270
C9: 3 | D9: danfoss ip20 to Nema 1 Conversion Kit, M4 (132B0120) | E9: шт | F9: 2 | G9: 02.02.2022 | H9: 1135.6 | I9: Хорошее | J9: 1707 | L9: https://www.kondicioner.pro/collection/oborudovanie-avtomatiki/product/komplekt-danfoss-nema1-m4-132b0120 | O9: =J9 -> 1707 | P9: =O9*F9 -> 3414 | Q9: 0.2 | R9: 0.147 | S9: =ROUND(P9*(1-Q9)*(1-R9),0) -> 2330 | T9: =S9/1.2 -> 1941.6667
C10: 4 | D10: DKC ZHD441GR 2,5мм2 клеммный зажим двухуровневый под предохр. Серый | E10: шт | F10: 37 | G10: 02.02.2022 | H10: 8676.5 | I10: Хорошее | J10: 266.1 | L10: https://www.dkcmarket.ru/zhd441gr.html | O10: =J10 -> 266.1 | P10: =O10*F10 -> 9845.7 | Q10: 0.2 | R10: 0.147 | S10: =ROUND(P10*(1-Q10)*(1-R10),0) -> 6719 | T10: =S10/1.2 -> 5599.1667
C11: 5 | D11: DRAIN MASTER 150 (DM150CA) | E11: шт | F11: 2 | G11: 02.02.2022 | H11: 650 | I11: Хорошее | J11: 4669 | L11: https://kv-energy.ru/catalog/zapchasti_i_raskhodnye_materialy/filtry_i_filtruyushchie_elementy/1321114252/ | O11: =J11 -> 4669 | P11: =O11*F11 -> 9338 | Q11: 0.2 | R11: 0.147 | S11: =ROUND(P11*(1-Q11)*(1-R11),0) -> 6372 | T11: =S11/1.2 -> 5310
C12: 6 | D12: finder 06072 | E12: шт | F12: 3 | G12: 02.02.2022 | H12: 2694 | I12: Хорошее | J12: 686.76 | L12: https://finder-relay.ru/katalog/products/silovye-rele/-60-serija-universalnye-rele-6/-06072-06072-markirovochnaja-plastina-dlja | O12: =J12 -> 686.76 | P12: =O12*F12 -> 2060.28 | Q12: 0.2 | R12: 0.147 | S12: =ROUND(P12*(1-Q12)*(1-R12),0) -> 1406 | T12: =S12/1.2 -> 1171.6667
C13: 7 | D13: finder 95.05 розетка под реле | E13: шт | F13: 15 | G13: 02.02.2022 | H13: 2032 | I13: Хорошее | J13: 382.32 | L13: https://finder-relay.ru/katalog/products/promezhutochnye-rele/-40-serija-miniatjurnye-pcb-rele/-95-serija-rozetki-i-aksessuary/-9505-rozetka-dlja-rele-serii | O13: =J13 -> 382.32 | P13: =O13*F13 -> 5734.8 | Q13: 0.2 | R13: 0.147 | S13: =ROUND(P13*(1-Q13)*(1-R13),0) -> 3913 | T13: =S13/1.2 -> 3260.8333
C14: 8 | D14: FINDER держатель реле 93.01.7.024 | E14: шт | F14: 2 | G14: 02.02.2022 | H14: 618 | I14: Хорошее | J14: 587.64 | L14: https://finder-relay.ru/katalog/products/rozetki-i-moduli/-93-serija-rozetki-i-aksessuary/-93017024-rozetka-dlja-rele-3451 | O14: =J14 -> 587.64 | P14: =O14*F14 -> 1175.28 | Q14: 0.2 | R14: 0.147 | S14: =ROUND(P14*(1-Q14)*(1-R14),0) -> 802 | T14: =S14/1.2 -> 668.33333
C15: 9 | D15: FINDER реле 34.51.7.024.0010 | E15: шт | F15: 1 | G15: 02.02.2022 | H15: 211 | I15: Хорошее | J15: 414.18 | L15: https://finder-relay.ru/katalog/products/promezhutochnye-rele/-34-serija-ultratonkie-kontaktnye-i/-345170240010-rele-s-1-perekidnym | O15: =J15 -> 414.18 | P15: =O15*F15 -> 414.18 | Q15: 0.2 | R15: 0.147 | S15: =ROUND(P15*(1-Q15)*(1-R15),0) -> 283 | T15: =S15/1.2 -> 235.83333
C16: 10 | D16: FINDER реле 34.81.7.024.8240 | E16: шт | F16: 1 | G16: 02.02.2022 | H16: 901 | I16: Хорошее | J16: 1624.86 | L16: https://finder-relay.ru/katalog/products/promezhutochnye-rele/-34-serija-ultratonkie-kontaktnye-i/-348170248240-tverdotelnoe-rele-dlja-montazha | O16: =J16 -> 1624.86 | P16: =O16*F16 -> 1624.86 | Q16: 0.2 | R16: 0.147 | S16: =ROUND(P16*(1-Q16)*(1-R16),0) -> 1109 | T16: =S16/1.2 -> 924.16667
C17: 11 | D17: Klemsan клемма 2,5мм2 серый AVK 2,5 на din рейку | E17: шт | F17: 20 | G17: 02.02.2022 | H17: 2289.8 | I17: Хорошее | J17: 89.34 | L17: https://euro-avtomatika.ru/product/klemsan-304120-klemmnik-na-din-reyku-2-5mm-kv-seryy-avk2-5/ | O17: =J17 -> 89.34 | P17: =O17*F17 -> 1786.8 | Q17: 0.2 | R17: 0.147 | S17: =ROUND(P17*(1-Q17)*(1-R17),0) -> 1219 | T17: =S17/1.2 -> 1015.8333
C18: 12 | D18: Klemsan клемма 6мм2 держ. предохрсерый ASK 2 S (351109) на din рейку | E18: шт | F18: 42 | G18: 02.02.2022 | H18: 17434.62 | I18: Хорошее | J18: 342 | L18: https://www.skm-electro.ru/klemmnik-s-derj-predohr--5x20-5x25-na-din-rejku-6-mm-kv--seryj--ask-2s?https://skm-electro.ru/?utm_source=yandex&utm_medium=cpc&utm_term=351109&yclid=13126911601254072319 | O18: =J18 -> 342 | P18: =O18*F18 -> 14364 | Q18: 0.2 | R18: 0.147 | S18: =ROUND(P18*(1-Q18)*(1-R18),0) -> 9802 | T18: =S18/1.2 -> 8168.3333
C19: 13 | D19: LEGRAND крепеж 421081 | E19: шт | F19: 7 | G19: 02.02.2022 | H19: 3178 | I19: Хорошее | J19: 1052 | L19: https://www.legrand-russia.ru/product/131201 | O19: =J19 -> 1052 | P19: =O19*F19 -> 7364 | Q19: 0.2 | R19: 0.147 | S19: =ROUND(P19*(1-Q19)*(1-R19),0) -> 5025 | T19: =S19/1.2 -> 4187.5
... C26: 20 | D26: phoenix contact UKH150 клемма серая 150мм2 (3010110) | E26: шт | F26: 12 | G26: 02.02.2022 | H26: 728.16 | I26: Хорошее | J26: 3299 | L26: https://www.ozon.ru/product/3010110-klemma-dlya-vysokogo-toka-ukh-150-seraya-phoenix-contact-688320539/?utm_medium=organic&utm_referrer=https%3A%2F%2Fyandex.ru%2Fproducts%2Fsearch%3Ftext%3D%25D0%259A%25D0%25BB%25D0%25B5%25D0%25BC%25D0%25BC%25D0%25B0%2520%25D0%25B4%25D0%25BB%25D1%258F%2520%25D0%25B2%25D1%258B%25D1%2581%25D0%25BE%25D0%25BA%25D0%25BE%25D0%25B3%25D0%25BE%2520%25D1%2582%25D0%25BE%25D0%25BA%25D0%25B0%2520UKH%2520150%25203010110%2520%25D0%25BE%25D1%2582%2520Phoenix%2520Contact&utm_source=yandex_serp_products&sh=k6SLyE5YZQ | O26: =J26 -> 3299 | P26: =O26*F26 -> 39588 | Q26: 0.2 | R26: 0.147 | S26: =ROUND(P26*(1-Q26)*(1-R26),0) -> 27015 | T26: =S26/1.2 -> 22512.5
C27: 21 | D27: Schneider RSLZVA1 держатель реле | E27: шт | F27: 4 | G27: 02.02.2022 | H27: 334.24 | I27: Хорошее | J27: =K27*1.2 -> 775.2 | K27: 646 | L27: https://schneider-russia.com/silovoe-oborudovanie/puskoreguliruyushchaya-apparatura/aksessuary/rozetka-1224v-acdc-dlya-rsl1b4jbd-rslzva1 | M27: 2022 | O27: =J27 -> 775.2 | P27: =O27*F27 -> 3100.8 | Q27: 0.2 | R27: 0.147 | S27: =ROUND(P27*(1-Q27)*(1-R27),0) -> 2116 | T27: =S27/1.2 -> 1763.3333
C28: 22 | D28: Siemens 3TF30 10-0X 24V контактор | E28: шт | F28: 34 | G28: 02.02.2022 | H28: 8570.04 | I28: Хорошее | J28: 4811 | L28: https://shopozz.ru/items/163134222646-one-new--3tf30-siemens-ac-contactor-3tf3010-0x-ac220v-10e | O28: =J28 -> 4811 | P28: =O28*F28 -> 163574 | Q28: 0.2 | R28: 0.147 | S28: =ROUND(P28*(1-Q28)*(1-R28),0) -> 111623 | T28: =S28/1.2 -> 93019.167
C29: 23 | D29: Siemens 3TF40 11-0XM0 220V контактор | E29: шт | F29: 2 | G29: 02.02.2022 | H29: 40982.9 | I29: Хорошее | J29: 1739 | L29: https://nazya.com/product/rele-elektromagnitnoe-podlinnaya-3tf40-simenssuchzhoukontaktor-ac-3tf4010-0h-220v-10e-siemens-3tf4010-0x-ac220v-10e_37352936453.html | O29: =J29 -> 1739 | P29: =O29*F29 -> 3478 | Q29: 0.2 | R29: 0.147 | S29: =ROUND(P29*(1-Q29)*(1-R29),0) -> 2373 | T29: =S29/1.2 -> 1977.5
C30: 24 | D30: Siemens 3TF56 22-0XB0 24V контактор | E30: шт | F30: 1 | G30: 02.02.2022 | H30: 11878 | I30: Хорошее | J30: 14026.32 | L30: https://center-control.ru/product/nofuel-siemens-3tf56 | O30: =J30 -> 14026.32 | P30: =O30*F30 -> 14026.32 | Q30: 0.2 | R30: 0.147 | S30: =ROUND(P30*(1-Q30)*(1-R30),0) -> 9572 | T30: =S30/1.2 -> 7976.6667
C31: 25 | D31: Siemens 3UA50 40-1G 6,3-10A тепловое реле | E31: шт | F31: 4 | G31: 02.02.2022 | H31: 1346 | I31: Хорошее | J31: 563 | L31: https://nazya.com/product/termorele-butik-teplovoe-rele-3ua50-40-1dzh-63-10a-siemens-40-1j-63-10a_10139345358.html | O31: =J31 -> 563 | P31: =O31*F31 -> 2252 | Q31: 0.2 | R31: 0.147 | S31: =ROUND(P31*(1-Q31)*(1-R31),0) -> 1537 | T31: =S31/1.2 -> 1280.8333
C32: 26 | D32: weidmuller WEW 35/2 ограничитель на din рейку | E32: шт | F32: 69 | G32: 02.02.2022 | H32: 1208.97 | I32: Хорошее | J32: 460 | L32: https://www.chipdip.ru/product0/8021539575 | O32: =J32 -> 460 | P32: =O32*F32 -> 31740 | Q32: 0.2 | R32: 0.147 | S32: =ROUND(P32*(1-Q32)*(1-R32),0) -> 21659 | T32: =S32/1.2 -> 18049.167
C33: 27 | D33: WIELAND Z741500100 | E33: шт | F33: 1 | G33: 02.02.2022 | H33: 74 | I33: Хорошее | J33: 6826.34 | L33: https://triema.su/shop/products/view/10730823 | O33: =J33 -> 6826.34 | P33: =O33*F33 -> 6826.34 | Q33: 0.2 | R33: 0.147 | S33: =ROUND(P33*(1-Q33)*(1-R33),0) -> 4658 | T33: =S33/1.2 -> 3881.6667
C34: 28 | D34: wieland держатель предохранителя THIS 5x20 (Z1.298.1053.0) | E34: шт | F34: 100 | G34: 02.02.2022 | H34: 551250 | I34: Хорошее | J34: 340 | L34: https://www.chipdip.ru/product1/8002850299 | O34: =J34 -> 340 | P34: =O34*F34 -> 34000 | Q34: 0.2 | R34: 0.147 | S34: =ROUND(P34*(1-Q34)*(1-R34),0) -> 23202 | T34: =S34/1.2 -> 19335
C35: 29 | D35: wieland торцевой фиксатор на din рейку (Z5.522.8553.0) | E35: шт | F35: 100 | G35: 02.02.2022 | H35: 1220 | I35: Хорошее | J35: 170 | L35: https://www.chipdip.ru/product/z5.522.8553.0 | O35: =J35 -> 170 | P35: =O35*F35 -> 17000 | Q35: 0.2 | R35: 0.147 | S35: =ROUND(P35*(1-Q35)*(1-R35),0) -> 11601 | T35: =S35/1.2 -> 9667.5
C36: 30 | D36: Авт. выкл. DEKRAFT 3Р 6А С | E36: шт | F36: 1 | G36: 02.02.2022 | H36: 1328.65 | I36: Хорошее | J36: 665 | L36: https://доммечты.рф/vyklyuchatel_avtomaticheskiy_modulnyy/vyklyuchatel_avtomaticheskiy_modulnyy_3p_c_6a_4_5ka_va_101_sche_11076dek.html?utm_referrer=https%3A%2F%2Fyandex.ru%2Fproducts%2Fsearch%3Ftext%3D%25D0%2590%25D0%25B2%25D1%2582.%2520%25D0%25B2%25D1%258B%25D0%25BA%25D0%25BB.%2520DEKRAFT%25203%25D0%25A0%25206%25D0%2590%2520%25D0%25A1 | O36: =J36 -> 665 | P36: =O36*F36 -> 665 | Q36: 0.2 | R36: 0.147 | S36: =ROUND(P36*(1-Q36)*(1-R36),0) -> 454 | T36: =S36/1.2 -> 378.33333
C37: 31 | D37: Авт. выкл. IC60N 3П D32A | E37: шт | F37: 2 | G37: 02.02.2022 | H37: 3684.51 | I37: Хорошее | J37: 4725 | L37: https://market.yandex.ru/product--avtomaticheskii-vykliuchatel-schneider-electric-acti-9-ic60n-d-6ka/1868463855?glfilter=27142750%3A28737595_101353756751&glfilter=14805873%3A14805873_Other_101353756751&text=ic60n%203p%2032a%20d%20schneider%20electric&cpc=DPxS-nxtYm0_i-ghGc95-SVrfOlmXWliL16WMeYCcMJQEcwIf2Um_fJq5yDJPjUnjeRWB5TkTNdWvut3livwKiS6sUDLweXMmqS_zeg-4_wiF-fvcAo-mJw9dKQJmLCNBHXNDjKDGTjdxg13ikeZJbcqN-VwBSkt3K60bmBHH5d2WcNn5Gj9B_SobDfkXU7bR9kJ_dqVSw0%2C&rs=eJwzYgAAAGYAMw%2C%2C&sku=101353756751&do-waremd5=4TVWS9lGX8yU_PhhKZNodw&cpa=1&nid=18061179 | O37: =J37 -> 4725 | P37: =O37*F37 -> 9450 | Q37: 0.2 | R37: 0.147 | S37: =ROUND(P37*(1-Q37)*(1-R37),0) -> 6449 | T37: =S37/1.2 -> 5374.1667
C38: 32 | D38: Авт. выкл. ВА47-29 3Р 16А C | E38: шт | F38: 36 | G38: 02.02.2022 | H38: 5297.37 | I38: Хорошее | J38: 594 | L38: https://market.yandex.ru/product--avtomaticheskii-vykliuchatel-iek-va47-29-3p-16a-kharakteristika-c/1820908645?cpc=GvVxioneCrhmsJEEy6MjrrjHqscMfOibhTyE6TzlT4W-Yx9BKE9yuqCIiti_qHvq5cZQChD1rClCOohQUILqn-2I11dbib-NzTJ9hGYPLKSLEHuC6Zp7mKRY9dg5HGaQ5HN2rYORDKB9qAppWPMej_EWB-SuqfRrvQIZETeJrXFTvfoNbe7Yil21QUgcXydMv224-tl9yXYLyTsDu45_D-hV8y34ej4YjZpgh1cJgT-VPV8WE_355Y3QPkBAz4TW1q7MN_y6OtSV5HnJy5MuvQ%2C%2C&from-show-uid=16890732585011511178500001&sku=101871371747&do-waremd5=3q5AjsW3zhHrnJvns0SitA&sponsored=1&cpa=1 | O38: =J38 -> 594 | P38: =O38*F38 -> 21384 | Q38: 0.2 | R38: 0.147 | S38: =ROUND(P38*(1-Q38)*(1-R38),0) -> 14592 | T38: =S38/1.2 -> 12160
C39: 33 | D39: Авт. выкл. ВА47-29 3Р 20А С | E39: шт | F39: 1 | G39: 02.02.2022 | H39: 850 | I39: Хорошее | J39: 410 | L39: https://www.onlinetrade.ru/catalogue/avtomaticheskie_vyklyuchateli_toka_avt-c2307/iek/avtomaticheskiy_vyklyuchatel_iek_va47_29_3r_20a_4_5ka_kh_ka_s_mva20_3_020_c-2141610.html?utm_referrer=https%3A%2F%2Fyandex.ru%2Fproducts%2Fsearch%3Ftext%3D%25D0%2590%25D0%25B2%25D1%2582.%2520%25D0%25B2%25D1%258B%25D0%25BA%25D0%25BB.%2520%25D0%2592%25D0%259047-29%25203%25D0%25A0%252020%25D0%2590%2520%25D0%25A1 | O39: =J39 -> 410 | P39: =O39*F39 -> 410 | Q39: 0.2 | R39: 0.147 | S39: =ROUND(P39*(1-Q39)*(1-R39),0) -> 280 | T39: =S39/1.2 -> 233.33333
... C42: 36 | D42: Авт.выключатель C60N 3П 16А D | E42: шт | F42: 1 | G42: 02.02.2022 | H42: 312 | I42: Хорошее | J42: 2203 | L42: https://tek-el.ru/item/576440 | O42: =J42 -> 2203 | P42: =O42*F42 -> 2203 | Q42: 0.2 | R42: 0.147 | S42: =ROUND(P42*(1-Q42)*(1-R42),0) -> 1503 | T42: =S42/1.2 -> 1252.5
C43: 37 | D43: Авт.выключатель IC60 N 3П D32А | E43: шт | F43: 32 | G43: 43465 | H43: 3684.51 | I43: Хорошее | J43: 4725 | L43: https://market.yandex.ru/product--avtomaticheskii-vykliuchatel-schneider-electric-acti-9-ic60n-d-6ka/1868463855?glfilter=27142750%3A28737595_101353756751&glfilter=14805873%3A14805873_Other_101353756751&cpc=WvOv0jDJ9FMUWyWZWGIaORcElpDi8FOtcvRiJY8quo1pPu1Z4I7DBummxaxOr7cOeblj-4W33KxyYNGTpnxvZZZPjYISicIgzMRKF2FSfe4myomrSWUAWupgV7G4bxBUAHI0ObC_9Sx6imERjAQJZCOuAkq2h2PWP1QghVN1JvRnUSrUZEEO91uZBIIJk9ecCLQbjqB5rIJKRlR60izsCTJ_CW1ByKME5Cgxm1ViQyTg4ElB_89i5Q%2C%2C&sku=101353756751&offerid=4TVWS9lGX8yU_PhhKZNodw&cpa=1 | O43: =J43 -> 4725 | P43: =O43*F43 -> 151200 | Q43: 0.2 | R43: 0.147 | S43: =ROUND(P43*(1-Q43)*(1-R43),0) -> 103179 | T43: =S43/1.2 -> 85982.5
C44: 38 | D44: Авт.выключатель IK60 3П 40А | E44: шт | F44: 1 | G44: 43465 | H44: 907.08 | I44: Хорошее | J44: 1579 | L44: https://market.yandex.ru/product--vykliuchatel-avtomaticheskii-modulnyi-3p-d-40a-6ka-va47-60m-iek-mva31-3-040-d-1sht/1417955116?clid=1601&utm_source=yandex&utm_medium=search&utm_campaign=ymp_offer_dp_stroika_model_4_bko_dyb_search_rus&utm_term=91699%7C1417955116&utm_content=cid%3A83036734%7Cgid%3A5128990123%7Caid%3A13463066071%7Cph%3A3454069%7Cpt%3Apremium%7Cpn%3A1%7Csrc%3Anone%7Cst%3Asearch%7Crid%3A3454069%7Ccgcid%3A0&cpa=1 | O44: =J44 -> 1579 | P44: =O44*F44 -> 1579 | Q44: 0.2 | R44: 0.147 | S44: =ROUND(P44*(1-Q44)*(1-R44),0) -> 1078 | T44: =S44/1.2 -> 898.33333
C45: 39 | D45: Авт.выключатель IK60N 3П 25А C | E45: шт | F45: 4 | G45: 02.02.2022 | H45: 1128 | I45: Хорошее | J45: 1638 | L45: https://market.yandex.ru/product--a9k24325-avtomaticheskii-vykliuchatel-seriia-ik60-n-3p-25a-krivaia-c-6ka-schneider-electric/962345071?nid=18061179&show-uid=16890752380744904761316004&context=search&text=Автоматический%20выключатель%20Schneider%20Electric%20Acti9%20iK60N%203P%2025А%20характеристика%20C&own-cards=74738997%3A101324691387&sku=101324691387&cpc=S9dlj4kyW3onIeeEVjgDY_cZeVw4P1s1LigN132yf56aR0zKc_WHVODR5wxOGRXXw9A7UpAjYAtJTj52bmczxTJ3Mpr4pPorNpoRovKHviD7QHtrAn2yrFZNTervQqlZ-0M_fk2uir3gS2Yj62nW2WyB6iibL3R5UswQzvRhk4fHAVuxh5FYCZfiUQtuElIxzzJDPFENUAJkxp0MHM2_WS7eXzSXxG2N4bxttPTtv-1dw1J7Qkl-UjuVegpTjnYipi57tYKbQOFZ3QIWfmW9yg%2C%2C&do-waremd5=20Chf5Ytzzz25FCJ5ICZLA&sponsored=1&rs=eJwzYgAAAGYAMw%2C%2C | O45: =J45 -> 1638 | P45: =O45*F45 -> 6552 | Q45: 0.2 | R45: 0.147 | S45: =ROUND(P45*(1-Q45)*(1-R45),0) -> 4471 | T45: =S45/1.2 -> 3725.8333
C46: 40 | D46: Авт.выключатель PKZM4-40 с тепл.реле 32-40А | E46: шт | F46: 2 | G46: 02.02.2022 | H46: 366.28 | I46: Хорошее | J46: 16722 | L46: https://market.yandex.ru/product--a9k24325-avtomaticheskii-vykliuchatel-seriia-ik60-n-3p-25a-krivaia-c-6ka-schneider-electric/962345071?nid=18061179&show-uid=16890752380744904761316004&context=search&text=Автоматический%20выключатель%20Schneider%20Electric%20Acti9%20iK60N%203P%2025А%20характеристика%20C&own-cards=74738997%3A101324691387&sku=101324691387&cpc=S9dlj4kyW3onIeeEVjgDY_cZeVw4P1s1LigN132yf56aR0zKc_WHVODR5wxOGRXXw9A7UpAjYAtJTj52bmczxTJ3Mpr4pPorNpoRovKHviD7QHtrAn2yrFZNTervQqlZ-0M_fk2uir3gS2Yj62nW2WyB6iibL3R5UswQzvRhk4fHAVuxh5FYCZfiUQtuElIxzzJDPFENUAJkxp0MHM2_WS7eXzSXxG2N4bxttPTtv-1dw1J7Qkl-UjuVegpTjnYipi57tYKbQOFZ3QIWfmW9yg%2C%2C&do-waremd5=20Chf5Ytzzz25FCJ5ICZLA&sponsored=1&rs=eJwzYgAAAGYAMw%2C%2C | O46: =J46 -> 16722 | P46: =O46*F46 -> 33444 | Q46: 0.2 | R46: 0.147 | S46: =ROUND(P46*(1-Q46)*(1-R46),0) -> 22822 | T46: =S46/1.2 -> 19018.333
C47: 41 | D47: Авт.выключатель АЕ 2056мП-100-00У3А 3Р 63А | E47: шт | F47: 1 | G47: 02.02.2022 | H47: 907 | I47: Хорошее | J47: 1364.48 | L47: https://www.texenergo.ru/catalog/item.html/te00118745 | O47: =J47 -> 1364.48 | P47: =O47*F47 -> 1364.48 | Q47: 0.2 | R47: 0.147 | S47: =ROUND(P47*(1-Q47)*(1-R47),0) -> 931 | T47: =S47/1.2 -> 775.83333
C48: 42 | D48: Авт.выключатель АЕ 2066-100-00У3В 3Р 160А | E48: шт | F48: 1 | G48: 02.02.2022 | H48: 839.5 | I48: Хорошее | J48: 2507 | L48: https://эт-п.рф/product/1464 | O48: =J48 -> 2507 | P48: =O48*F48 -> 2507 | Q48: 0.2 | R48: 0.147 | S48: =ROUND(P48*(1-Q48)*(1-R48),0) -> 1711 | T48: =S48/1.2 -> 1425.8333
C49: 43 | D49: Авт.выключатель ВА47-100 3Р 100 А | E49: шт | F49: 1 | G49: 43465 | H49: 1114.77 | I49: Хорошее | J49: 2413 | L49: https://market.yandex.ru/product--avtomaticheskii-vykliuchatel-va47-100-3r-10a-10ka-s-iek/1750360401?cpc=yk9WbPJrFK6LSmRm2DPs0rv3CRdvRm4NcDHdtZf77DLzT8tYCzPsmzDMGV8va0ei6SCP0hfzR2IpW_02WIcbkkYxGSMnSI20Ca8rj6sA7rZMirRBKv9LktsIHySE-hNn2PgEqbyYjDembF5m85hViwomuNYeIYPHQDUpRB5fssvWnpj2nZvBtD942AAjHgCcfqYTB7ILYyJnsFuF3KlUjQpmBq0-JgdVgimj6-T-ZfMLHJrBcNlCEIbZsu-O05yayHuSzMV-bmaQyr6IBOiv3A%2C%2C&cc=Ci4xNjg5MDc2MTY5MzUwLzAwZjRjMWRlY2U4ODNiMjMxMDlmMTJiMTM0MDAwNjAwEOYBgH3m7QY%2C&sku=101728825501&from=premiumOffers&from-show-uid=16890761700767962536100001&do-waremd5=hW4cMyz--3UPjIqfcUyNEw&sponsored=1 | O49: =J49 -> 2413 | P49: =O49*F49 -> 2413 | Q49: 0.2 | R49: 0.147 | S49: =ROUND(P49*(1-Q49)*(1-R49),0) -> 1647 | T49: =S49/1.2 -> 1372.5
C50: 44 | D50: Авт.выключатель ВА47-29 1Р 1 А | E50: шт | F50: 12 | G50: 43930 | H50: 1029.87 | I50: Хорошее | J50: 92.62 | L50: https://www.etk-s.ru/katalog/nizkovoltnoe-oborudovanie/avtomaticheskie-vyklyuchateli/avtomaticheskie-vyklyuchateli-modulnye/Avtomaticheskii_viklyuchatel_VA47-29-1S10-UHL3-KEAZ?yclid=921545537656193023 | O50: =J50 -> 92.62 | P50: =O50*F50 -> 1111.44 | Q50: 0.2 | R50: 0.147 | S50: =ROUND(P50*(1-Q50)*(1-R50),0) -> 758 | T50: =S50/1.2 -> 631.66667
C51: 45 | D51: Авт.выключатель ВА47-29 1Р 16 А | E51: шт | F51: 3 | G51: 43465 | H51: 56.65 | I51: Хорошее | J51: 180 | L51: https://www.chipdip.ru/product0/9000510011?utm_source=direct&utm_medium=cpc&position_type=premium%7Ck50id%7C010000002651837_2651837%7Ccid%7C60323483%7Cgid%7C4964180456%7Caid%7C12395850839%7Csrc%7Csearch_none&utm_campaign=Y_dinamicheskaya&utm_content=text9_ya&utm_term=&yclid=14919157770763108351 | O51: =J51 -> 180 | P51: =O51*F51 -> 540 | Q51: 0.2 | R51: 0.147 | S51: =ROUND(P51*(1-Q51)*(1-R51),0) -> 368 | T51: =S51/1.2 -> 306.66667
C52: 46 | D52: Авт.выключатель ВА47-29 1Р 4 А | E52: шт | F52: 5 | G52: 43465 | H52: 554.87 | I52: Хорошее | J52: 240 | L52: https://www.chipdip.ru/product0/8010444951?utm_source=direct&utm_medium=cpc&position_type=other%7Ck50id%7C010000003214933_3214933%7Ccid%7C81265450%7Cgid%7C5094299410%7Caid%7C13187180933%7Csrc%7Csearch_yandex.ru&utm_campaign=Y_dinamika_ext&utm_content=text1_ya&utm_term=&etext=2202.fxi3-43Fz2Wid6guMH4XaPQwm5l_laYZ818qGcTwt8slv3TrNn-xrdVVUCFscjoJrucLDY1Vd84zZRUeXTuijnNuY3pyeWxzb29obWpkY3M.35cda9508eaeb54481a98e305a26fadf30fc141f&utm_referrer=https%3A%2F%2Fyandex.ru%2Fproducts%2Fsearch%3Ftext%3D%25D0%2590%25D0%25B2%25D1%2582.%25D0%25B2%25D1%258B%25D0%25BA%25D0%25BB%25D1%258E%25D1%2587%25D0%25B0%25D1%2582%25D0%25B5%25D0%25BB%25D1%258C%2520%25D0%2592%25D0%259047-29%2520%25201%25D0%25A0%2520%25204%2520%25D0%2590&yclid=3906878242223889414 | O52: =J52 -> 240 | P52: =O52*F52 -> 1200 | Q52: 0.2 | R52: 0.147 | S52: =ROUND(P52*(1-Q52)*(1-R52),0) -> 819 | T52: =S52/1.2 -> 682.5
C53: 47 | D53: Авт.выключатель ВА47-29 3Р 1 А | E53: шт | F53: 6 | G53: 43465 | H53: 3173.92 | I53: Хорошее | J53: 647.83 | L53: https://om-ek.ru/product/item/avtomat-vykl-3-pol-1a-tip-d-4-5ka-seriya-va-47-29?utm_referrer=https%3A%2F%2Fyandex.ru%2Fproducts%2Fsearch%3Ftext%3D%25D0%2590%25D0%25B2%25D1%2582.%25D0%25B2%25D1%258B%25D0%25BA%25D0%25BB%25D1%258E%25D1%2587%25D0%25B0%25D1%2582%25D0%25B5%25D0%25BB%25D1%258C%2520%25D0%2592%25D0%259047-29%2520%25203%25D0%25A0%2520%2520%25201%2520%25D0%2590 | O53: =J53 -> 647.83 | P53: =O53*F53 -> 3886.98 | Q53: 0.2 | R53: 0.147 | S53: =ROUND(P53*(1-Q53)*(1-R53),0) -> 2652 | T53: =S53/1.2 -> 2210
...

Sheet Индексы
B2: год | C2: 1998 | D2: 1999 | E2: 2000 | F2: 2001 | G2: 2002 | H2: 2003 | I2: 2004 | J2: 2005 | K2: 2006 | L2: 2007 | M2: 2008 | N2: 2009 | O2: 2010 | P2: 2011 | Q2: 2012 | R2: 2013 | S2: 2014 | T2: 2015 | U2: 2016 | V2: 2017 | W2: 2018 | X2: 2019 | Y2: 2020 | Z2: 2021 | AA2: 2022 | AB2: 2023 | AC2: Индекс удорожания за период
B3: Индекс | C3: 119.4 | D3: 170.7 | E3: 131.9 | F3: 108.3 | G3: 117.7 | H3: 112.5 | I3: 128.8 | J3: 113.4 | K3: 110.4 | L3: 125.1 | M3: 93 | N3: 113.9 | O3: 116.7 | P3: 112 | Q3: 105.1 | R3: 103.7 | S3: 105.9 | T3: 110.7 | U3: 107.4 | V3: 108.4 | W3: 111.7 | X3: 95.7 | Y3: 103.6 | Z3: 128.5 | AA3: 96.7 | AB3: 108.9
B4: 1998 | C4: =C3/100 -> 1.194 | D4: =$D$3/100 -> 1.707 | E4: =$E$3/100 -> 1.319 | F4: =$F$3/100 -> 1.083 | G4: =$G$3/100 -> 1.177 | H4: =$H$3/100 -> 1.125 | I4: =$I$3/100 -> 1.288 | J4: =$J$3/100 -> 1.134 | K4: =$K$3/100 -> 1.104 | L4: =$L$3/100 -> 1.251 | M4: =$M$3/100 -> 0.93 | N4: =$N$3/100 -> 1.139 | O4: =$O$3/100 -> 1.167 | P4: =$P$3/100 -> 1.12 | Q4: =$Q$3/100 -> 1.051 | R4: =$R$3/100 -> 1.037 | S4: =$S$3/100 -> 1.059 | T4: =$T$3/100 -> 1.107 | U4: =$U$3/100 -> 1.074 | V4: =$V$3/100 -> 1.084 | W4: =$W$3/100 -> 1.117 | X4: =$X$3/100 -> 0.957 | Y4: =$Y$3/100 -> 1.036 | Z4: =$Z$3/100 -> 1.285 | AA4: =$AA$3/100 -> 0.967 | AB4: =$AB$3/100 -> 1.089 | AC4: =ROUND(PRODUCT(C4:AA4),2) -> 22.04
B5: 1999 | D5: =$D$3/100 -> 1.707 | E5: =$E$3/100 -> 1.319 | F5: =$F$3/100 -> 1.083 | G5: =$G$3/100 -> 1.177 | H5: =$H$3/100 -> 1.125 | I5: =$I$3/100 -> 1.288 | J5: =$J$3/100 -> 1.134 | K5: =$K$3/100 -> 1.104 | L5: =$L$3/100 -> 1.251 | M5: =$M$3/100 -> 0.93 | N5: =$N$3/100 -> 1.139 | O5: =$O$3/100 -> 1.167 | P5: =$P$3/100 -> 1.12 | Q5: =$Q$3/100 -> 1.051 | R5: =$R$3/100 -> 1.037 | S5: =$S$3/100 -> 1.059 | T5: =$T$3/100 -> 1.107 | U5: =$U$3/100 -> 1.074 | V5: =$V$3/100 -> 1.084 | W5: =$W$3/100 -> 1.117 | X5: =$X$3/100 -> 0.957 | Y5: =$Y$3/100 -> 1.036 | Z5: =$Z$4 -> 1.285 | AA5: =$AA$3/100 -> 0.967 | AB5: =$AB$3/100 -> 1.089 | AC5: =ROUND(PRODUCT(C5:AA5),2) -> 18.46
B6: 2000 | E6: =$E$3/100 -> 1.319 | F6: =$F$3/100 -> 1.083 | G6: =$G$3/100 -> 1.177 | H6: =$H$3/100 -> 1.125 | I6: =$I$3/100 -> 1.288 | J6: =$J$3/100 -> 1.134 | K6: =$K$3/100 -> 1.104 | L6: =$L$3/100 -> 1.251 | M6: =$M$3/100 -> 0.93 | N6: =$N$3/100 -> 1.139 | O6: =$O$3/100 -> 1.167 | P6: =$P$3/100 -> 1.12 | Q6: =$Q$3/100 -> 1.051 | R6: =$R$3/100 -> 1.037 | S6: =$S$3/100 -> 1.059 | T6: =$T$3/100 -> 1.107 | U6: =$U$3/100 -> 1.074 | V6: =$V$3/100 -> 1.084 | W6: =$W$3/100 -> 1.117 | X6: =$X$3/100 -> 0.957 | Y6: =$Y$3/100 -> 1.036 | Z6: =$Z$4 -> 1.285 | AA6: =$AA$3/100 -> 0.967 | AB6: =$AB$3/100 -> 1.089 | AC6: =ROUND(PRODUCT(C6:AA6),2) -> 10.81
B7: 2001 | F7: =$F$3/100 -> 1.083 | G7: =$G$3/100 -> 1.177 | H7: =$H$3/100 -> 1.125 | I7: =$I$3/100 -> 1.288 | J7: =$J$3/100 -> 1.134 | K7: =$K$3/100 -> 1.104 | L7: =$L$3/100 -> 1.251 | M7: =$M$3/100 -> 0.93 | N7: =$N$3/100 -> 1.139 | O7: =$O$3/100 -> 1.167 | P7: =$P$3/100 -> 1.12 | Q7: =$Q$3/100 -> 1.051 | R7: =$R$3/100 -> 1.037 | S7: =$S$3/100 -> 1.059 | T7: =$T$3/100 -> 1.107 | U7: =$U$3/100 -> 1.074 | V7: =$V$3/100 -> 1.084 | W7: =$W$3/100 -> 1.117 | X7: =$X$3/100 -> 0.957 | Y7: =$Y$3/100 -> 1.036 | Z7: =$Z$4 -> 1.285 | AA7: =$AA$3/100 -> 0.967 | AB7: =$AB$3/100 -> 1.089 | AC7: =ROUND(PRODUCT(C7:AA7),2) -> 8.2
B8: 2002 | G8: =$G$3/100 -> 1.177 | H8: =$H$3/100 -> 1.125 | I8: =$I$3/100 -> 1.288 | J8: =$J$3/100 -> 1.134 | K8: =$K$3/100 -> 1.104 | L8: =$L$3/100 -> 1.251 | M8: =$M$3/100 -> 0.93 | N8: =$N$3/100 -> 1.139 | O8: =$O$3/100 -> 1.167 | P8: =$P$3/100 -> 1.12 | Q8: =$Q$3/100 -> 1.051 | R8: =$R$3/100 -> 1.037 | S8: =$S$3/100 -> 1.059 | T8: =$T$3/100 -> 1.107 | U8: =$U$3/100 -> 1.074 | V8: =$V$3/100 -> 1.084 | W8: =$W$3/100 -> 1.117 | X8: =$X$3/100 -> 0.957 | Y8: =$Y$3/100 -> 1.036 | Z8: =$Z$4 -> 1.285 | AA8: =$AA$3/100 -> 0.967 | AB8: =$AB$3/100 -> 1.089 | AC8: =ROUND(PRODUCT(C8:AA8),2) -> 7.57
B9: 2003 | H9: =$H$3/100 -> 1.125 | I9: =$I$3/100 -> 1.288 | J9: =$J$3/100 -> 1.134 | K9: =$K$3/100 -> 1.104 | L9: =$L$3/100 -> 1.251 | M9: =$M$3/100 -> 0.93 | N9: =$N$3/100 -> 1.139 | O9: =$O$3/100 -> 1.167 | P9: =$P$3/100 -> 1.12 | Q9: =$Q$3/100 -> 1.051 | R9: =$R$3/100 -> 1.037 | S9: =$S$3/100 -> 1.059 | T9: =$T$3/100 -> 1.107 | U9: =$U$3/100 -> 1.074 | V9: =$V$3/100 -> 1.084 | W9: =$W$3/100 -> 1.117 | X9: =$X$3/100 -> 0.957 | Y9: =$Y$3/100 -> 1.036 | Z9: =$Z$4 -> 1.285 | AA9: =$AA$3/100 -> 0.967 | AB9: =$AB$3/100 -> 1.089 | AC9: =ROUND(PRODUCT(C9:AA9),2) -> 6.43
B10: 2004 | I10: =$I$3/100 -> 1.288 | J10: =$J$3/100 -> 1.134 | K10: =$K$3/100 -> 1.104 | L10: =$L$3/100 -> 1.251 | M10: =$M$3/100 -> 0.93 | N10: =$N$3/100 -> 1.139 | O10: =$O$3/100 -> 1.167 | P10: =$P$3/100 -> 1.12 | Q10: =$Q$3/100 -> 1.051 | R10: =$R$3/100 -> 1.037 | S10: =$S$3/100 -> 1.059 | T10: =$T$3/100 -> 1.107 | U10: =$U$3/100 -> 1.074 | V10: =$V$3/100 -> 1.084 | W10: =$W$3/100 -> 1.117 | X10: =$X$3/100 -> 0.957 | Y10: =$Y$3/100 -> 1.036 | Z10: =$Z$4 -> 1.285 | AA10: =$AA$3/100 -> 0.967 | AB10: =$AB$3/100 -> 1.089 | AC10: =ROUND(PRODUCT(C10:AA10),2) -> 5.72
B11: 2005 | J11: =$J$3/100 -> 1.134 | K11: =$K$3/100 -> 1.104 | L11: =$L$3/100 -> 1.251 | M11: =$M$3/100 -> 0.93 | N11: =$N$3/100 -> 1.139 | O11: =$O$3/100 -> 1.167 | P11: =$P$3/100 -> 1.12 | Q11: =$Q$3/100 -> 1.051 | R11: =$R$3/100 -> 1.037 | S11: =$S$3/100 -> 1.059 | T11: =$T$3/100 -> 1.107 | U11: =$U$3/100 -> 1.074 | V11: =$V$3/100 -> 1.084 | W11: =$W$3/100 -> 1.117 | X11: =$X$3/100 -> 0.957 | Y11: =$Y$3/100 -> 1.036 | Z11: =$Z$4 -> 1.285 | AA11: =$AA$3/100 -> 0.967 | AB11: =$AB$3/100 -> 1.089 | AC11: =ROUND(PRODUCT(C11:AA11),2) -> 4.44
B12: 2006 | K12: =$K$3/100 -> 1.104 | L12: =$L$3/100 -> 1.251 | M12: =$M$3/100 -> 0.93 | N12: =$N$3/100 -> 1.139 | O12: =$O$3/100 -> 1.167 | P12: =$P$3/100 -> 1.12 | Q12: =$Q$3/100 -> 1.051 | R12: =$R$3/100 -> 1.037 | S12: =$S$3/100 -> 1.059 | T12: =$T$3/100 -> 1.107 | U12: =$U$3/100 -> 1.074 | V12: =$V$3/100 -> 1.084 | W12: =$W$3/100 -> 1.117 | X12: =$X$3/100 -> 0.957 | Y12: =$Y$3/100 -> 1.036 | Z12: =$Z$4 -> 1.285 | AA12: =$AA$3/100 -> 0.967 | AB12: =$AB$3/100 -> 1.089 | AC12: =ROUND(PRODUCT(C12:AA12),2) -> 3.91
B13: 2007 | L13: =$L$3/100 -> 1.251 | M13: =$M$3/100 -> 0.93 | N13: =$N$3/100 -> 1.139 | O13: =$O$3/100 -> 1.167 | P13: =$P$3/100 -> 1.12 | Q13: =$Q$3/100 -> 1.051 | R13: =$R$3/100 -> 1.037 | S13: =$S$3/100 -> 1.059 | T13: =$T$3/100 -> 1.107 | U13: =$U$3/100 -> 1.074 | V13: =$V$3/100 -> 1.084 | W13: =$W$3/100 -> 1.117 | X13: =$X$3/100 -> 0.957 | Y13: =$Y$3/100 -> 1.036 | Z13: =$Z$4 -> 1.285 | AA13: =$AA$3/100 -> 0.967 | AB13: =$AB$3/100 -> 1.089 | AC13: =ROUND(PRODUCT(C13:AA13),2) -> 3.55
B14: 2008 | M14: =$M$3/100 -> 0.93 | N14: =$N$3/100 -> 1.139 | O14: =$O$3/100 -> 1.167 | P14: =$P$3/100 -> 1.12 | Q14: =$Q$3/100 -> 1.051 | R14: =$R$3/100 -> 1.037 | S14: =$S$3/100 -> 1.059 | T14: =$T$3/100 -> 1.107 | U14: =$U$3/100 -> 1.074 | V14: =$V$3/100 -> 1.084 | W14: =$W$3/100 -> 1.117 | X14: =$X$3/100 -> 0.957 | Y14: =$Y$3/100 -> 1.036 | Z14: =$Z$4 -> 1.285 | AA14: =$AA$3/100 -> 0.967 | AB14: =$AB$3/100 -> 1.089 | AC14: =ROUND(PRODUCT(C14:AA14),2) -> 2.83
B15: 2009 | N15: =$N$3/100 -> 1.139 | O15: =$O$3/100 -> 1.167 | P15: =$P$3/100 -> 1.12 | Q15: =$Q$3/100 -> 1.051 | R15: =$R$3/100 -> 1.037 | S15: =$S$3/100 -> 1.059 | T15: =$T$3/100 -> 1.107 | U15: =$U$3/100 -> 1.074 | V15: =$V$3/100 -> 1.084 | W15: =$W$3/100 -> 1.117 | X15: =$X$3/100 -> 0.957 | Y15: =$Y$3/100 -> 1.036 | Z15: =$Z$4 -> 1.285 | AA15: =$AA$3/100 -> 0.967 | AB15: =$AB$3/100 -> 1.089 | AC15: =ROUND(PRODUCT(C15:AA15),2) -> 3.05
B16: 2010 | O16: =$O$3/100 -> 1.167 | P16: =$P$3/100 -> 1.12 | Q16: =$Q$3/100 -> 1.051 | R16: =$R$3/100 -> 1.037 | S16: =$S$3/100 -> 1.059 | T16: =$T$3/100 -> 1.107 | U16: =$U$3/100 -> 1.074 | V16: =$V$3/100 -> 1.084 | W16: =$W$3/100 -> 1.117 | X16: =$X$3/100 -> 0.957 | Y16: =$Y$3/100 -> 1.036 | Z16: =$Z$4 -> 1.285 | AA16: =$AA$3/100 -> 0.967 | AB16: =$AB$3/100 -> 1.089 | AC16: =ROUND(PRODUCT(C16:AA16),2) -> 2.68
B17: 2011 | P17: =$P$3/100 -> 1.12 | Q17: =$Q$3/100 -> 1.051 | R17: =$R$3/100 -> 1.037 | S17: =$S$3/100 -> 1.059 | T17: =$T$3/100 -> 1.107 | U17: =$U$3/100 -> 1.074 | V17: =$V$3/100 -> 1.084 | W17: =$W$3/100 -> 1.117 | X17: =$X$3/100 -> 0.957 | Y17: =$Y$3/100 -> 1.036 | Z17: =$Z$4 -> 1.285 | AA17: =$AA$3/100 -> 0.967 | AB17: =$AB$3/100 -> 1.089 | AC17: =ROUND(PRODUCT(C17:AA17),2) -> 2.29
B18: 2012 | Q18: =$Q$3/100 -> 1.051 | R18: =$R$3/100 -> 1.037 | S18: =$S$3/100 -> 1.059 | T18: =$T$3/100 -> 1.107 | U18: =$U$3/100 -> 1.074 | V18: =$V$3/100 -> 1.084 | W18: =$W$3/100 -> 1.117 | X18: =$X$3/100 -> 0.957 | Y18: =$Y$3/100 -> 1.036 | Z18: =$Z$4 -> 1.285 | AA18: =$AA$3/100 -> 0.967 | AB18: =$AB$3/100 -> 1.089 | AC18: =ROUND(PRODUCT(C18:AA18),2) -> 2.05
B19: 2013 | R19: =$R$3/100 -> 1.037 | S19: =$S$3/100 -> 1.059 | T19: =$T$3/100 -> 1.107 | U19: =$U$3/100 -> 1.074 | V19: =$V$3/100 -> 1.084 | W19: =$W$3/100 -> 1.117 | X19: =$X$3/100 -> 0.957 | Y19: =$Y$3/100 -> 1.036 | Z19: =$Z$4 -> 1.285 | AA19: =$AA$3/100 -> 0.967 | AB19: =$AB$3/100 -> 1.089 | AC19: =ROUND(PRODUCT(C19:AA19),2) -> 1.95
B20: 2014 | S20: =$S$3/100 -> 1.059 | T20: =$T$3/100 -> 1.107 | U20: =$U$3/100 -> 1.074 | V20: =$V$3/100 -> 1.084 | W20: =$W$3/100 -> 1.117 | X20: =$X$3/100 -> 0.957 | Y20: =$Y$3/100 -> 1.036 | Z20: =$Z$4 -> 1.285 | AA20: =$AA$3/100 -> 0.967 | AB20: =$AB$3/100 -> 1.089 | AC20: =ROUND(PRODUCT(C20:AA20),2) -> 1.88
B21: 2015 | T21: =$T$3/100 -> 1.107 | U21: =$U$3/100 -> 1.074 | V21: =$V$3/100 -> 1.084 | W21: =$W$3/100 -> 1.117 | X21: =$X$3/100 -> 0.957 | Y21: =$Y$3/100 -> 1.036 | Z21: =$Z$4 -> 1.285 | AA21: =$AA$3/100 -> 0.967 | AB21: =$AB$3/100 -> 1.089 | AC21: =ROUND(PRODUCT(C21:AA21),2) -> 1.77
B22: 2016 | U22: =$U$3/100 -> 1.074 | V22: =$V$3/100 -> 1.084 | W22: =$W$3/100 -> 1.117 | X22: =$X$3/100 -> 0.957 | Y22: =$Y$3/100 -> 1.036 | Z22: =$Z$4 -> 1.285 | AA22: =$AA$3/100 -> 0.967 | AB22: =$AB$3/100 -> 1.089 | AC22: =ROUND(PRODUCT(C22:AA22),2) -> 1.6
B23: 2017 | V23: =$V$3/100 -> 1.084 | W23: =$W$3/100 -> 1.117 | X23: =$X$3/100 -> 0.957 | Y23: =$Y$3/100 -> 1.036 | Z23: =$Z$4 -> 1.285 | AA23: =$AA$3/100 -> 0.967 | AB23: =$AB$3/100 -> 1.089 | AC23: =ROUND(PRODUCT(C23:AA23),2) -> 1.49
B24: 2018 | W24: =$W$3/100 -> 1.117 | X24: =$X$3/100 -> 0.957 | Y24: =$Y$3/100 -> 1.036 | Z24: =$Z$4 -> 1.285 | AA24: =$AA$3/100 -> 0.967 | AB24: =$AB$3/100 -> 1.089 | AC24: =ROUND(PRODUCT(C24:AA24),2) -> 1.38
B25: 2019 | X25: =$X$3/100 -> 0.957 | Y25: =$Y$3/100 -> 1.036 | Z25: =$Z$4 -> 1.285 | AA25: =$AA$3/100 -> 0.967 | AB25: =$AB$3/100 -> 1.089 | AC25: =ROUND(PRODUCT(C25:AA25),2) -> 1.23
B26: 2020 | Y26: =$Y$3/100 -> 1.036 | Z26: =Z25 -> 1.285 | AA26: =$AA$3/100 -> 0.967 | AB26: =$AB$3/100 -> 1.089 | AC26: =ROUND(PRODUCT(C26:AA26),2) -> 1.29
B27: 2021 | Z27: =Z26 -> 1.285 | AA27: =$AA$3/100 -> 0.967 | AB27: =$AB$3/100 -> 1.089 | AC27: =ROUND(PRODUCT(C27:AA27),2) -> 1.24
B28: 2022 | AA28: =$AA$3/100 -> 0.967 | AB28: =$AB$3/100 -> 1.089 | AC28: =ROUND(PRODUCT(C28:AA28),2) -> 0.97
B29: 2023 | AC29: =ROUND(PRODUCT(C29:AA29),2) -> 0
T43: 43131
T44: 43780
T45: 43152
E50: Обновлено 05.03.2021
E52: Индексы цен производителей промышленных товаров1) по Российской Федеpации в 2013-2020г.
E53: на конец периода, в %
F54: 2013 | G54: 2014 | H54: 2015 | I54: 2016 | J54: 2017 | K54: 2018 | L54: 2019 | M54: 2020
E55: К предыдущему месяцу
E56: Январь | F56: 99.9 | G56: 100.4 | H56: 101.9 | I56: 98.4 | J56: 103.26 | K56: 100.23 | L56: 97.98 | M56: 101.18 | O56: =L56/100 -> 0.9798
E57: Февраль | F57: 100.7 | G57: 99.6 | H57: 102.1 | I57: 98.8 | J57: 100.8 | K57: 100.92 | L57: 100.14 | M57: 99.35 | O57: =L57/100 -> 1.0014
E58: Март | F58: 100.5 | G58: 102.5 | H58: 105.8 | I58: 103 | J58: 99.73 | K58: 99.13 | L58: 100.85 | M58: 98.65 | O58: =L58/100 -> 1.0085
E59: Апрель | F59: 98.6 | G59: 100.6 | H59: 102.7 | I59: 101.9 | J59: 98.49 | K59: 101.22 | L59: 100.45 | M59: 92.82 | O59: =L59/100 -> 1.0045
...

Sheet Итого
I3: Приложение 4
D4: ЛОТ 4
C6: ПП № | D6: Наименование | E6: Единица измерения | F6: Количество, шт. | G6: Дата постановки на баланс / Дата приобретения | H6: Рыночная стоимость с учетом износа, руб. с НДС и перехода на вторичный рынок | I6: Рыночная стоимость с учетом износа, руб. без НДС и перехода на вторичный рынок
C7: 475 | D7: Фильтр FA-11 | E7: шт | F7: 1 | G7: 43465 | H7: =ROUND(РАсчеты!S481,0) -> 11718 | I7: =H7/1.2 -> 9765
C8: 476 | D8: Фильтр FA-7 | E8: шт | F8: 1 | G8: 43465 | H8: =ROUND(РАсчеты!S482,0) -> 12413 | I8: =H8/1.2 -> 10344.167
C9: 477 | D9: Фильтр FB-14 | E9: шт | F9: 2 | G9: 43465 | H9: =ROUND(РАсчеты!S483,0) -> 12620 | I9: =H9/1.2 -> 10516.667
C10: 478 | D10: Фильтр FB-7 | E10: шт | F10: 1 | G10: 43465 | H10: =ROUND(РАсчеты!S484,0) -> 54118 | I10: =H10/1.2 -> 45098.333
C11: 479 | D11: Фильтр FC-3 | E11: шт | F11: 4 | G11: 43465 | H11: =ROUND(РАсчеты!S485,0) -> 19404 | I11: =H11/1.2 -> 16170
C12: 480 | D12: Фильтр FC-7 | E12: шт | F12: 1 | G12: 43465 | H12: =ROUND(РАсчеты!S486,0) -> 9047 | I12: =H12/1.2 -> 7539.1667
C13: 481 | D13: Частотный преобраз.FC051P15KT4E20H3BXCXXXSXXX(15kW) | E13: м | F13: 1 | G13: 44594 | H13: =ROUND(РАсчеты!S487,0) -> 8918 | I13: =H13/1.2 -> 7431.6667
C14: 482 | D14: Частотный преобраз.моментум мТ100-018-4-000 (18,5 kW) | E14: м | F14: 1 | G14: 44594 | H14: =ROUND(РАсчеты!S488,0) -> 37034 | I14: =H14/1.2 -> 30861.667
C15: 483 | D15: Шильдик 9705 А/5/10 B (04.242.5053.0) | E15: шт | F15: 1 | G15: 44594 | H15: =ROUND(РАсчеты!S489,0) -> 752 | I15: =H15/1.2 -> 626.66667
C16: 484 | D16: Шильдик 9705 А/5/10 B 31-40 (04.845.0453.0) | E16: шт | F16: 25 | G16: 44594 | H16: =ROUND(РАсчеты!S490,0) -> 248 | I16: =H16/1.2 -> 206.66667
C17: 485 | D17: Шильдик 9705 А/5/10 B 41-50 (04.845.0553.0) | E17: шт | F17: 25 | G17: 44594 | H17: =ROUND(РАсчеты!S491,0) -> 496 | I17: =H17/1.2 -> 413.33333
C18: 486 | D18: Шильдик 9705 А/5/10 B 51-60 (04.845.0653.0) | E18: шт | F18: 25 | G18: 44594 | H18: =ROUND(РАсчеты!S492,0) -> 248 | I18: =H18/1.2 -> 206.66667
... C21: 489 | D21: Шильдик 9705 А/5/10 B 81-90 (04.845.0953.0) | E21: шт | F21: 25 | G21: 44594 | H21: =ROUND(РАсчеты!S495,0) -> 2055 | I21: =H21/1.2 -> 1712.5
C22: 514 | D22: 25,4-35-900-0,3-11/11-м42х2/м42х2-Т1 | E22: шт | F22: 5 | H22: =ROUND(РАсчеты!S520,0) -> 4521 | I22: =H22/1.2 -> 3767.5
C23: 515 | D23: ABB 1SDA066137R1 независимый расцепитель | E23: шт | F23: 4 | H23: =ROUND(РАсчеты!S521,0) -> 5881 | I23: =H23/1.2 -> 4900.8333
C24: 516 | D24: ABB AF52-30-00-13 1SBL367001R1300 контактор | E24: шт | F24: 1 | H24: =ROUND(РАсчеты!S522,0) -> 10396 | I24: =H24/1.2 -> 8663.3333
C25: 517 | D25: ABB K6-22Z-80 (GJH211001R8220) мини контактор | E25: шт | F25: 4 | H25: =ROUND(РАсчеты!S523,0) -> 8204 | I25: =H25/1.2 -> 6836.6667
C26: 518 | D26: CAMERON CAMSERV PARTS AAP1401435-01233 | E26: шт | F26: 15 | H26: =ROUND(РАсчеты!S524,0) -> 285922 | I26: =H26/1.2 -> 238268.33
C27: 519 | D27: Camozzi 2530 1/2-1/4 | E27: шт | F27: 7 | H27: =ROUND(РАсчеты!S525,0) -> 1395 | I27: =H27/1.2 -> 1162.5
C28: 520 | D28: Camozzi N12-04-R01 | E28: шт | F28: 1 | H28: =ROUND(РАсчеты!S526,0) -> 2479 | I28: =H28/1.2 -> 2065.8333
C29: 521 | D29: Camozzi датчик MA34N-15-02 | E29: шт | F29: 4 | H29: =ROUND(РАсчеты!S527,0) -> 26051 | I29: =H29/1.2 -> 21709.167
C30: 522 | D30: Camozzi мХ/-2-1/2 | E30: шт | F30: 4 | H30: =ROUND(РАсчеты!S528,0) -> 43056 | I30: =H30/1.2 -> 35880
C31: 523 | D31: EKF КмЭ-9511 95А 380В | E31: шт | F31: 2 | H31: =ROUND(РАсчеты!S529,0) -> 5978 | I31: =H31/1.2 -> 4981.6667
C32: 524 | D32: FBS 2-6 3030336 | E32: шт | F32: 20 | H32: =ROUND(РАсчеты!S530,0) -> 541 | I32: =H32/1.2 -> 450.83333
C33: 525 | D33: FESTO m56 | E33: шт | F33: 1 | H33: =ROUND(РАсчеты!S531,0) -> 10615 | I33: =H33/1.2 -> 8845.8333
... C53: 545 | D53: legrand 37100 Клемма 2,5мм2 синяя | E53: шт | F53: 120 | H53: =ROUND(РАсчеты!S551,0) -> 5323 | I53: =H53/1.2 -> 4435.8333
C54: 546 | D54: Legrand 6 665 19 | E54: шт | F54: 200 | G54: 44594 | H54: =ROUND(РАсчеты!S552,0) -> 295 | I54: =H54/1.2 -> 245.83333
C55: 547 | D55: LEGRAND MPX32S (417304) авт защиты двиг-ля | E55: шт | F55: 2 | H55: =ROUND(РАсчеты!S553,0) -> 8133 | I55: =H55/1.2 -> 6777.5
C56: 548 | D56: Nerson VDL 46 | E56: л | F56: 30 | H56: =ROUND(РАсчеты!S554,0) -> 143023 | I56: =H56/1.2 -> 119185.83
C57: 549 | D57: Nerson VDL 68 | E57: боч | F57: 2 | H57: =ROUND(РАсчеты!S555,0) -> 285216 | I57: =H57/1.2 -> 237680
C58: 550 | D58: Phoenix contact Subcon 9/F-SH 2761499Шинный штекер | E58: шт | F58: 4 | H58: =ROUND(РАсчеты!S556,0) -> 16378 | I58: =H58/1.2 -> 13648.333
C59: 551 | D59: RB115-2lijt. RB140 | E59: шт | F59: 1 | H59: =ROUND(РАсчеты!S557,0) -> 9827 | I59: =H59/1.2 -> 8189.1667
C60: 710 | D60: Бондаж CF12-16 470 | E60: шт | F60: 1 | H60: =ROUND(РАсчеты!S716,0) -> 2 | I60: =H60/1.2 -> 1.6666667
C61: 711 | D61: Бондаж ДУ320 мет | E61: шт | F61: 1 | H61: =ROUND(РАсчеты!S717,0) -> 261 | I61: =H61/1.2 -> 217.5
C62: 712 | D62: Бумага А3 | E62: упак | F62: 13 | H62: =ROUND(РАсчеты!S718,0) -> 5713 | I62: =H62/1.2 -> 4760.8333
C63: 713 | D63: Вент.канал металлический | E63: шт | F63: 50 | H63: =ROUND(РАсчеты!S719,0) -> 10782 | I63: =H63/1.2 -> 8985
C64: 714 | D64: Вентилятор S4D315-AP10-30 230/400v 50/60Hz 85/110W 1420/1620 об/мин с решёткой | E64: шт | F64: 1 | H64: =ROUND(РАсчеты!S720,0) -> 17188 | I64: =H64/1.2 -> 14323.333
...
